BEGIN:VCALENDAR
VERSION:2.0
PRODID:spatie/icalendar-generator
DESCRIPTION:Events from Tampa Bay Butterfly Foundation
X-WR-CALDESC:Events from Tampa Bay Butterfly Foundation
REFRESH-INTERVAL;VALUE=DURATION:PT1440M
X-PUBLISHED-TTL:PT1440M
BEGIN:VTIMEZONE
TZID:Etc/GMT+0
BEGIN:STANDARD
DTSTART:20241122T110000Z
TZOFFSETFROM:+0000
TZOFFSETTO:+0000
END:STANDARD
END:VTIMEZONE
BEGIN:VTIMEZONE
TZID:UTC
BEGIN:STANDARD
DTSTART:20250726T083218Z
TZOFFSETFROM:+0000
TZOFFSETTO:+0000
END:STANDARD
END:VTIMEZONE
BEGIN:VEVENT
UID:152-126
DTSTAMP:20260422T083218Z
SUMMARY:LRW Daily Nursery Assistance
LOCATION:Little Red Wagon Native Nursery 4113 Henderson Blvd.  Tampa  33629
ORGANIZER;CN=element:MAILTO:anita@anitasaccountingsolutions.com
RRULE:FREQ=WEEKLY;UNTIL=20251230T000000Z
DTSTART;TZID=Etc/GMT+0:20250819T110000
DTEND;TZID=Etc/GMT+0:20250819T140000
X-ALT-DESC;FMTTYPE=TEXT/HTML:<p>Please register to volunteer at https://vol
 unteersignup.org/EQBQT</p>\n
CATEGORIES:Volunteer Opportunity
URL;VALUE=URI:https://tampabaybutterflyfoundation.org/mc-events/lrw-daily-n
 ursery-assistance/?mc_id=152
METHOD:PUBLISH
END:VEVENT
END:VCALENDAR