BEGIN:VCALENDAR
VERSION:2.0
PRODID:spatie/icalendar-generator
DESCRIPTION:Events from Tampa Bay Butterfly Foundation
X-WR-CALDESC:Events from Tampa Bay Butterfly Foundation
REFRESH-INTERVAL;VALUE=DURATION:PT1440M
X-PUBLISHED-TTL:PT1440M
BEGIN:VTIMEZONE
TZID:Etc/GMT+0
BEGIN:STANDARD
DTSTART:20250329T110000Z
TZOFFSETFROM:+0000
TZOFFSETTO:+0000
END:STANDARD
END:VTIMEZONE
BEGIN:VTIMEZONE
TZID:UTC
BEGIN:STANDARD
DTSTART:20250729T015324Z
TZOFFSETFROM:+0000
TZOFFSETTO:+0000
END:STANDARD
END:VTIMEZONE
BEGIN:VEVENT
UID:215-127
DTSTAMP:20260425T015324Z
SUMMARY:LRW Daily Nursery Assistance
LOCATION:Little Red Wagon Native Nursery 4113 Henderson Blvd.  Tampa  33629
ORGANIZER;CN=element:MAILTO:anita@anitasaccountingsolutions.com
RRULE:FREQ=WEEKLY;UNTIL=20251231T000000Z
DTSTART;TZID=Etc/GMT+0:20251224T110000
DTEND;TZID=Etc/GMT+0:20251224T140000
X-ALT-DESC;FMTTYPE=TEXT/HTML:<p>Please register to volunteer at https://vol
 unteersignup.org/EQBQT</p>\n
CATEGORIES:Volunteer Opportunity
URL;VALUE=URI:https://tampabaybutterflyfoundation.org/mc-events/lrw-daily-n
 ursery-assistance-2/?mc_id=215
METHOD:PUBLISH
END:VEVENT
END:VCALENDAR