BEGIN:VCALENDAR
VERSION:2.0
PRODID:spatie/icalendar-generator
DESCRIPTION:Events from Tampa Bay Butterfly Foundation
X-WR-CALDESC:Events from Tampa Bay Butterfly Foundation
REFRESH-INTERVAL;VALUE=DURATION:PT1440M
X-PUBLISHED-TTL:PT1440M
BEGIN:VTIMEZONE
TZID:Etc/GMT+0
BEGIN:STANDARD
DTSTART:20240602T110000Z
TZOFFSETFROM:+0000
TZOFFSETTO:+0000
END:STANDARD
END:VTIMEZONE
BEGIN:VTIMEZONE
TZID:UTC
BEGIN:STANDARD
DTSTART:20250729T022153Z
TZOFFSETFROM:+0000
TZOFFSETTO:+0000
END:STANDARD
END:VTIMEZONE
BEGIN:VEVENT
UID:28-28
DTSTAMP:20260425T022153Z
SUMMARY:Encore! Technology Park: 02/27/25
LOCATION:Encore! Technology Park 1210 E. Harrison St.  Tampa FL
ORGANIZER;CN=element:MAILTO:anita@anitasaccountingsolutions.com
DTSTART;TZID=Etc/GMT+0:20250227T110000
DTEND;TZID=Etc/GMT+0:20250227T140000
X-ALT-DESC;FMTTYPE=TEXT/HTML:Volunteers are needed to help maintain the Tam
 pa Bay Butterfly Foundation-sponsored butterfly garden at Encore! Park loc
 ated at 1210 E. Harrison St. (Corner of Harrison Street and Hank Ballard S
 t.)  This event is subject to change due to weather. To volunteer\, click
  or copy and paste into a browser: https://volunteersignup.org/M4MMP
CATEGORIES:Volunteer Opportunity
URL;VALUE=URI:https://tampabaybutterflyfoundation.org/mc-events/encore-tech
 nology-park-02-27-25/
METHOD:PUBLISH
END:VEVENT
END:VCALENDAR