BEGIN:VCALENDAR
VERSION:2.0
PRODID:spatie/icalendar-generator
DESCRIPTION:Events from Tampa Bay Butterfly Foundation
X-WR-CALDESC:Events from Tampa Bay Butterfly Foundation
REFRESH-INTERVAL;VALUE=DURATION:PT1440M
X-PUBLISHED-TTL:PT1440M
BEGIN:VTIMEZONE
TZID:Etc/GMT+0
BEGIN:STANDARD
DTSTART:20241126T110000Z
TZOFFSETFROM:+0000
TZOFFSETTO:+0000
END:STANDARD
END:VTIMEZONE
BEGIN:VTIMEZONE
TZID:UTC
BEGIN:STANDARD
DTSTART:20250728T225025Z
TZOFFSETFROM:+0000
TZOFFSETTO:+0000
END:STANDARD
END:VTIMEZONE
BEGIN:VEVENT
UID:288-129
DTSTAMP:20260424T225025Z
SUMMARY:LRW Daily Nursery Assistance
LOCATION:Little Red Wagon Native Nursery 4113 Henderson Blvd.  Tampa  33629
ORGANIZER;CN=element:MAILTO:anita@anitasaccountingsolutions.com
RRULE:FREQ=WEEKLY;UNTIL=20251230T000000Z
DTSTART;TZID=Etc/GMT+0:20250823T110000
DTEND;TZID=Etc/GMT+0:20250823T160000
X-ALT-DESC;FMTTYPE=TEXT/HTML:<p>Please register to volunteer at https://vol
 unteersignup.org/EQBQT</p>\n
CATEGORIES:Volunteer Opportunity
URL;VALUE=URI:https://tampabaybutterflyfoundation.org/mc-events/lrw-daily-n
 ursery-assistance-4/?mc_id=288
METHOD:PUBLISH
END:VEVENT
END:VCALENDAR