BEGIN:VCALENDAR
VERSION:2.0
PRODID:spatie/icalendar-generator
DESCRIPTION:Events from Tampa Bay Butterfly Foundation
X-WR-CALDESC:Events from Tampa Bay Butterfly Foundation
REFRESH-INTERVAL;VALUE=DURATION:PT1440M
X-PUBLISHED-TTL:PT1440M
BEGIN:VTIMEZONE
TZID:Etc/GMT+0
BEGIN:STANDARD
DTSTART:20240612T130000Z
TZOFFSETFROM:+0000
TZOFFSETTO:+0000
END:STANDARD
END:VTIMEZONE
BEGIN:VTIMEZONE
TZID:UTC
BEGIN:STANDARD
DTSTART:20250726T082534Z
TZOFFSETFROM:+0000
TZOFFSETTO:+0000
END:STANDARD
END:VTIMEZONE
BEGIN:VEVENT
UID:309-130
DTSTAMP:20260422T082534Z
SUMMARY:LRW Daily Nursery Assistance
LOCATION:Little Red Wagon Native Nursery 4113 Henderson Blvd.  Tampa  33629
ORGANIZER;CN=element:MAILTO:anita@anitasaccountingsolutions.com
RRULE:FREQ=WEEKLY;UNTIL=20251230T000000Z
DTSTART;TZID=Etc/GMT+0:20250309T130000
DTEND;TZID=Etc/GMT+0:20250309T150000
X-ALT-DESC;FMTTYPE=TEXT/HTML:<p>Please register to volunteer at https://vol
 unteersignup.org/EQBQT</p>\n
CATEGORIES:Volunteer Opportunity
URL;VALUE=URI:https://tampabaybutterflyfoundation.org/mc-events/lrw-daily-n
 ursery-assistance-5/?mc_id=309
METHOD:PUBLISH
END:VEVENT
END:VCALENDAR