BEGIN:VCALENDAR
VERSION:2.0
PRODID:spatie/icalendar-generator
DESCRIPTION:Events from Tampa Bay Butterfly Foundation
X-WR-CALDESC:Events from Tampa Bay Butterfly Foundation
REFRESH-INTERVAL;VALUE=DURATION:PT1440M
X-PUBLISHED-TTL:PT1440M
BEGIN:VTIMEZONE
TZID:Etc/GMT+0
BEGIN:STANDARD
DTSTART:20240720T180000Z
TZOFFSETFROM:+0000
TZOFFSETTO:+0000
END:STANDARD
END:VTIMEZONE
BEGIN:VTIMEZONE
TZID:UTC
BEGIN:STANDARD
DTSTART:20250728T223747Z
TZOFFSETFROM:+0000
TZOFFSETTO:+0000
END:STANDARD
END:VTIMEZONE
BEGIN:VEVENT
UID:408-138
DTSTAMP:20260424T223747Z
SUMMARY:Plight of the Butterflies – Flight of the Future
LOCATION:Florida Aquarium 701 Channelside Drive  Tampa FL
ORGANIZER;CN=element:MAILTO:anita@anitasaccountingsolutions.com
DTSTART;TZID=Etc/GMT+0:20250416T180000
DTEND;TZID=Etc/GMT+0:20250416T193000
X-ALT-DESC;FMTTYPE=TEXT/HTML:Evening Tide Talks is a complimentary lecture 
 series featuring expert scientists and world explorers at The Florida Aqua
 rium.  A complimentary reception will begin at 5:45 PM\, followed by the 
 speaker at 6:15 PM. As E.O. Wilson once said\, insects are “the little t
 hings that run the world.” Their loss affects entire ecosystems\, from f
 ood for&amp;hellip\;
CATEGORIES:Speaking Engagement
URL;VALUE=URI:https://tampabaybutterflyfoundation.org/mc-events/plight-of-t
 he-butterflies-flight-of-the-future/
METHOD:PUBLISH
END:VEVENT
END:VCALENDAR