BEGIN:VCALENDAR
VERSION:2.0
PRODID:spatie/icalendar-generator
DESCRIPTION:Events from Tampa Bay Butterfly Foundation
X-WR-CALDESC:Events from Tampa Bay Butterfly Foundation
REFRESH-INTERVAL;VALUE=DURATION:PT1440M
X-PUBLISHED-TTL:PT1440M
BEGIN:VTIMEZONE
TZID:Etc/GMT+0
BEGIN:STANDARD
DTSTART:20240721T100000Z
TZOFFSETFROM:+0000
TZOFFSETTO:+0000
END:STANDARD
END:VTIMEZONE
BEGIN:VTIMEZONE
TZID:UTC
BEGIN:STANDARD
DTSTART:20250728T210103Z
TZOFFSETFROM:+0000
TZOFFSETTO:+0000
END:STANDARD
END:VTIMEZONE
BEGIN:VEVENT
UID:413-139
DTSTAMP:20260424T210103Z
SUMMARY:Butterfly Alley Maintenance: 04/17/25
LOCATION:Butterfly Alley 4110 W. Estrella St.  Tampa FL 33629
ORGANIZER;CN=element:MAILTO:anita@anitasaccountingsolutions.com
DTSTART;TZID=Etc/GMT+0:20250417T100000
DTEND;TZID=Etc/GMT+0:20250417T120000
X-ALT-DESC;FMTTYPE=TEXT/HTML:Please join our volunteers as we clean up Butt
 erfly Alley located behind Little Red Wagon Native Nursery.  We will be m
 aintaining the habitat behind the Little Red Wagon Native Nursery along pa
 rt of Butterfly Alley (4110 W. Estrella St.). Volunteers are needed to per
 form regular maintenance to keep this looking beautiful. Park at the side&amp;
 hellip\;
CATEGORIES:Volunteer Opportunity
URL;VALUE=URI:https://tampabaybutterflyfoundation.org/mc-events/butterfly-a
 lley-maintenance-04-17-25/
METHOD:PUBLISH
END:VEVENT
END:VCALENDAR