BEGIN:VCALENDAR
VERSION:2.0
PRODID:spatie/icalendar-generator
DESCRIPTION:Events from Tampa Bay Butterfly Foundation
X-WR-CALDESC:Events from Tampa Bay Butterfly Foundation
REFRESH-INTERVAL;VALUE=DURATION:PT1440M
X-PUBLISHED-TTL:PT1440M
BEGIN:VTIMEZONE
TZID:Etc/GMT+0
BEGIN:STANDARD
DTSTART:20240720T110000Z
TZOFFSETFROM:+0000
TZOFFSETTO:+0000
END:STANDARD
END:VTIMEZONE
BEGIN:VTIMEZONE
TZID:UTC
BEGIN:STANDARD
DTSTART:20250729T000255Z
TZOFFSETFROM:+0000
TZOFFSETTO:+0000
END:STANDARD
END:VTIMEZONE
BEGIN:VEVENT
UID:425-131
DTSTAMP:20260425T000255Z
SUMMARY:Wildflower Wednesdays
LOCATION:Little Red Wagon Native Nursery 4113 Henderson Blvd.  Tampa  33629
ORGANIZER;CN=element:MAILTO:anita@anitasaccountingsolutions.com
RRULE:FREQ=WEEKLY;UNTIL=20250626T000000Z
DTSTART;TZID=Etc/GMT+0:20250416T110000
DTEND;TZID=Etc/GMT+0:20250416T170000
X-ALT-DESC;FMTTYPE=TEXT/HTML:Bring a little wild into your life with Wildf
 lower Wednesday\, where Little Red Wagon Native Nursery and Pugs and Pe
 tals have partnered to infuse your space with the beauty of locally sourc
 ed wildflowers. Handpicked from the vibrant Tampa area\, our fresh arrange
 ments and seasonal bouquets are designed to brighten your day and celebrat
 e nature’s wonders. 🌿 Custom Wildflower Bouquets for Just&amp;hellip\;
CATEGORIES:Little Red Wagon Native Nursery
URL;VALUE=URI:https://tampabaybutterflyfoundation.org/mc-events/wildflower-
 wednesdays/?mc_id=425
METHOD:PUBLISH
END:VEVENT
END:VCALENDAR