BEGIN:VCALENDAR
VERSION:2.0
PRODID:spatie/icalendar-generator
DESCRIPTION:Events from Tampa Bay Butterfly Foundation
X-WR-CALDESC:Events from Tampa Bay Butterfly Foundation
REFRESH-INTERVAL;VALUE=DURATION:PT1440M
X-PUBLISHED-TTL:PT1440M
BEGIN:VTIMEZONE
TZID:Etc/GMT+0
BEGIN:STANDARD
DTSTART:20250610T160000Z
TZOFFSETFROM:+0000
TZOFFSETTO:+0000
END:STANDARD
END:VTIMEZONE
BEGIN:VTIMEZONE
TZID:UTC
BEGIN:STANDARD
DTSTART:20250728T223259Z
TZOFFSETFROM:+0000
TZOFFSETTO:+0000
END:STANDARD
END:VTIMEZONE
BEGIN:VEVENT
UID:466-165
DTSTAMP:20260424T223259Z
SUMMARY:Wildlife Geocaching Quest Kickoff
LOCATION:Tampa Bay Butterfly Foundation Gallery 4111-A Henderson Blvd.  Tam
 pa FL 33629
ORGANIZER;CN=element:MAILTO:anita@anitasaccountingsolutions.com
DTSTART;TZID=Etc/GMT+0:20260307T160000
DTEND;TZID=Etc/GMT+0:20260307T180000
X-ALT-DESC;FMTTYPE=TEXT/HTML:Don't miss out on our Wildlife Quest Kickoff 
 event\, a family-friendly interactive environmental geocaching experience 
 focused on local wildlife and the Tampa Bay watershed! This official Geoca
 ching Event is a chance for geocachers or those interested in the environm
 ent to: - Learn how to participate in the Wild Life Quest - Explore our in
 teractive website and&amp;hellip\;
CATEGORIES:General
URL;VALUE=URI:https://tampabaybutterflyfoundation.org/mc-events/wildlife-ge
 ocaching-quest-kickoff/
METHOD:PUBLISH
END:VEVENT
END:VCALENDAR