BEGIN:VCALENDAR
VERSION:2.0
PRODID:spatie/icalendar-generator
DESCRIPTION:Events from Tampa Bay Butterfly Foundation
X-WR-CALDESC:Events from Tampa Bay Butterfly Foundation
REFRESH-INTERVAL;VALUE=DURATION:PT1440M
X-PUBLISHED-TTL:PT1440M
BEGIN:VTIMEZONE
TZID:Etc/GMT+0
BEGIN:STANDARD
DTSTART:20250604T090000Z
TZOFFSETFROM:+0000
TZOFFSETTO:+0000
END:STANDARD
END:VTIMEZONE
BEGIN:VTIMEZONE
TZID:UTC
BEGIN:STANDARD
DTSTART:20250728T144218Z
TZOFFSETFROM:+0000
TZOFFSETTO:+0000
END:STANDARD
END:VTIMEZONE
BEGIN:VEVENT
UID:471-170
DTSTAMP:20260424T144218Z
SUMMARY:Butterfly Walk - 03/01/26
LOCATION:MacDill 48 Park 6301 Martindale Ave1  Tampa FL 33611
ORGANIZER;CN=element:MAILTO:anita@anitasaccountingsolutions.com
DTSTART;TZID=Etc/GMT+0:20260301T090000
DTEND;TZID=Etc/GMT+0:20260301T110000
X-ALT-DESC;FMTTYPE=TEXT/HTML:🌿 Butterfly Walk at MacDill 48 Park 🦋 
 📅 Sunday\, March 1st | 🕘 9:00 AM – 11:00 AM 📍 6301 Martindale
  Ave\, Tampa\, FL 33611 Join us for a guided butterfly walk through one 
 of Tampa’s newest and most ecologically diverse parks! We’ll meet at t
 he entrance to the park at 9:00 AM\, and the walk will last approximately
  2 hours. MacDill&amp;hellip\;
CATEGORIES:General
URL;VALUE=URI:https://tampabaybutterflyfoundation.org/mc-events/butterfly-w
 alk-03-01-26-2/
METHOD:PUBLISH
END:VEVENT
END:VCALENDAR