BEGIN:VCALENDAR
VERSION:2.0
PRODID:spatie/icalendar-generator
DESCRIPTION:Events from Tampa Bay Butterfly Foundation
X-WR-CALDESC:Events from Tampa Bay Butterfly Foundation
REFRESH-INTERVAL;VALUE=DURATION:PT1440M
X-PUBLISHED-TTL:PT1440M
BEGIN:VTIMEZONE
TZID:Etc/GMT+0
BEGIN:STANDARD
DTSTART:20240526T090000Z
TZOFFSETFROM:+0000
TZOFFSETTO:+0000
END:STANDARD
END:VTIMEZONE
BEGIN:VTIMEZONE
TZID:UTC
BEGIN:STANDARD
DTSTART:20250729T002203Z
TZOFFSETFROM:+0000
TZOFFSETTO:+0000
END:STANDARD
END:VTIMEZONE
BEGIN:VEVENT
UID:53-53
DTSTAMP:20260425T002203Z
SUMMARY:CFC Butterfly Garden Maintenance: 02/20/25
LOCATION:Center for Conservation 529 Estuary Shore Lane  Apollo Beach FL
ORGANIZER;CN=element:MAILTO:anita@anitasaccountingsolutions.com
DTSTART;TZID=Etc/GMT+0:20250220T090000
DTEND;TZID=Etc/GMT+0:20250220T110000
X-ALT-DESC;FMTTYPE=TEXT/HTML:The Florida Aquarium\, Tampa Bay Butterfly Fou
 ndation and FWC’s Suncoast Youth Conservation Center are looking for vol
 unteers to assist with habitat maintenance at Center for Conservation site
  of the Florida Conservation and Technology Center in Apollo Beach (529 Es
 tuary Shore Lane) as well as their Adopt a Road site along Dickman Road. 
  This event is&amp;hellip\;
CATEGORIES:Volunteer Opportunity
URL;VALUE=URI:https://tampabaybutterflyfoundation.org/mc-events/cfc-butterf
 ly-garden-maintenance-02-20-25/
METHOD:PUBLISH
END:VEVENT
END:VCALENDAR