BEGIN:VCALENDAR
VERSION:2.0
PRODID:spatie/icalendar-generator
DESCRIPTION:Events from Tampa Bay Butterfly Foundation
X-WR-CALDESC:Events from Tampa Bay Butterfly Foundation
REFRESH-INTERVAL;VALUE=DURATION:PT1440M
X-PUBLISHED-TTL:PT1440M
BEGIN:VTIMEZONE
TZID:Etc/GMT+0
BEGIN:STANDARD
DTSTART:20240519T173000Z
TZOFFSETFROM:+0000
TZOFFSETTO:+0000
END:STANDARD
END:VTIMEZONE
BEGIN:VTIMEZONE
TZID:UTC
BEGIN:STANDARD
DTSTART:20250728T172736Z
TZOFFSETFROM:+0000
TZOFFSETTO:+0000
END:STANDARD
END:VTIMEZONE
BEGIN:VEVENT
UID:105-105
DTSTAMP:20260424T172736Z
SUMMARY:Helping Hands Happy Hour
LOCATION:Centre Club 123 S Westshore Blvd\, 8th Floor  Tampa FL 33609
ORGANIZER;CN=element:MAILTO:anita@anitasaccountingsolutions.com
DTSTART;TZID=Etc/GMT+0:20250213T173000
DTEND;TZID=Etc/GMT+0:20250213T193000
X-ALT-DESC;FMTTYPE=TEXT/HTML:An Evening of Fun\, Food\, and Conservation at
  the Centre Club Join us for a special evening of connection\, conservatio
 n\, and community at our happy hour event! For just $20\, you'll enjoy unl
 imited appetizers in the elegant setting of the Centre Club—all while su
 pporting vital local conservation efforts through the Tampa Bay Butterfly 
 Foundation. Here’s&amp;hellip\;
CATEGORIES:General
URL;VALUE=URI:https://tampabaybutterflyfoundation.org/mc-events/helping-han
 ds-happy-hour/
METHOD:PUBLISH
END:VEVENT
END:VCALENDAR