BEGIN:VCALENDAR
VERSION:2.0
PRODID:spatie/icalendar-generator
DESCRIPTION:Events from Tampa Bay Butterfly Foundation
X-WR-CALDESC:Events from Tampa Bay Butterfly Foundation
REFRESH-INTERVAL;VALUE=DURATION:PT1440M
X-PUBLISHED-TTL:PT1440M
BEGIN:VTIMEZONE
TZID:Etc/GMT+0
BEGIN:STANDARD
DTSTART:20250205T090000Z
TZOFFSETFROM:+0000
TZOFFSETTO:+0000
END:STANDARD
END:VTIMEZONE
BEGIN:VTIMEZONE
TZID:UTC
BEGIN:STANDARD
DTSTART:20250729T033531Z
TZOFFSETFROM:+0000
TZOFFSETTO:+0000
END:STANDARD
END:VTIMEZONE
BEGIN:VEVENT
UID:452-155
DTSTAMP:20260425T033531Z
SUMMARY:Butterfly Walk
LOCATION:Gadsen Park 6901 S. MacDill Avenue  Tampa FL
ORGANIZER;CN=element:MAILTO:anita@anitasaccountingsolutions.com
DTSTART;TZID=Etc/GMT+0:20251102T090000
DTEND;TZID=Etc/GMT+0:20251102T110000
X-ALT-DESC;FMTTYPE=TEXT/HTML:Join Tampa Bay Butterfly Foundation and NABA T
 ampa Bay on a butterfly walk to continue our monthly monitoring of butterf
 ly species at Gadsen Park located at 6901 S MacDill Ave in South Tampa. We
  will meet under the trees North of the softball field at the back of the 
 park. There is ample parking back&amp;hellip\;
CATEGORIES:Volunteer Opportunity
URL;VALUE=URI:https://tampabaybutterflyfoundation.org/mc-events/butterfly-w
 alk-2/
METHOD:PUBLISH
END:VEVENT
END:VCALENDAR