BEGIN:VCALENDAR
VERSION:2.0
PRODID:spatie/icalendar-generator
DESCRIPTION:Events from Tampa Bay Butterfly Foundation
X-WR-CALDESC:Events from Tampa Bay Butterfly Foundation
REFRESH-INTERVAL;VALUE=DURATION:PT1440M
X-PUBLISHED-TTL:PT1440M
BEGIN:VTIMEZONE
TZID:Etc/GMT+0
BEGIN:STANDARD
DTSTART:20250518T180000Z
TZOFFSETFROM:+0000
TZOFFSETTO:+0000
END:STANDARD
END:VTIMEZONE
BEGIN:VTIMEZONE
TZID:UTC
BEGIN:STANDARD
DTSTART:20250728T205643Z
TZOFFSETFROM:+0000
TZOFFSETTO:+0000
END:STANDARD
END:VTIMEZONE
BEGIN:VEVENT
UID:463-163
DTSTAMP:20260424T205643Z
SUMMARY:Butterfly Ball
LOCATION:Tampa International Airport 4100 George J. Bean Pkwy  Tampa FL
ORGANIZER;CN=element:MAILTO:anita@anitasaccountingsolutions.com
DTSTART;TZID=Etc/GMT+0:20260212T180000
DTEND;TZID=Etc/GMT+0:20260212T210000
X-ALT-DESC;FMTTYPE=TEXT/HTML:🌿 What to Expect  Guests will enjoy: Heav
 y appetizers Professionally hosted cash bar available Violinist 6-7 pm DJ 
 entertainment 7-9 pm Complimentary long-term parking A curated silent auct
 ion Exciting raffles Wine pull Meaningful opportunities to support local c
 onservation efforts Park in Long Term Parking Garage and proceed to the th
 ird level of the main terminal. The&amp;hellip\;
CATEGORIES:General
URL;VALUE=URI:https://tampabaybutterflyfoundation.org/mc-events/butterfly-b
 all/
METHOD:PUBLISH
END:VEVENT
END:VCALENDAR