BEGIN:VCALENDAR
VERSION:2.0
PRODID:spatie/icalendar-generator
DESCRIPTION:Events from Tampa Bay Butterfly Foundation
X-WR-CALDESC:Events from Tampa Bay Butterfly Foundation
REFRESH-INTERVAL;VALUE=DURATION:PT1440M
X-PUBLISHED-TTL:PT1440M
BEGIN:VTIMEZONE
TZID:Etc/GMT+0
BEGIN:STANDARD
DTSTART:20250611T093000Z
TZOFFSETFROM:+0000
TZOFFSETTO:+0000
END:STANDARD
END:VTIMEZONE
BEGIN:VTIMEZONE
TZID:UTC
BEGIN:STANDARD
DTSTART:20250728T225423Z
TZOFFSETFROM:+0000
TZOFFSETTO:+0000
END:STANDARD
END:VTIMEZONE
BEGIN:VEVENT
UID:465-164
DTSTAMP:20260424T225423Z
SUMMARY:Hope In Action at Encore! Park: 03/8/26
LOCATION:Encore! Technology Park 1210 E. Harrison St.  Tampa FL
ORGANIZER;CN=element:MAILTO:anita@anitasaccountingsolutions.com
DTSTART;TZID=Etc/GMT+0:20260308T093000
DTEND;TZID=Etc/GMT+0:20260308T113000
X-ALT-DESC;FMTTYPE=TEXT/HTML:This event is part of Hope in Action 2026\, ho
 sted by the Roots &amp;amp\; Shoots Alliance\, a partnership of the Jane Gooda
 ll Institute and more than 40 Tampa Bay-area environmental organizations j
 oining forces to support young people who embody hope for our region. Volu
 nteers are needed to help maintain the Tampa Bay Butterfly Foundation-spon
 sored butterfly&amp;hellip\;
CATEGORIES:Volunteer Opportunity
URL;VALUE=URI:https://tampabaybutterflyfoundation.org/mc-events/hope-in-act
 ion-at-encore-park-03-8-26/
METHOD:PUBLISH
END:VEVENT
END:VCALENDAR