BEGIN:VCALENDAR
VERSION:2.0
PRODID:spatie/icalendar-generator
DESCRIPTION:Events from Tampa Bay Butterfly Foundation
X-WR-CALDESC:Events from Tampa Bay Butterfly Foundation
REFRESH-INTERVAL;VALUE=DURATION:PT1440M
X-PUBLISHED-TTL:PT1440M
BEGIN:VTIMEZONE
TZID:Etc/GMT+0
BEGIN:STANDARD
DTSTART:20250610T130000Z
TZOFFSETFROM:+0000
TZOFFSETTO:+0000
END:STANDARD
END:VTIMEZONE
BEGIN:VTIMEZONE
TZID:UTC
BEGIN:STANDARD
DTSTART:20250729T015115Z
TZOFFSETFROM:+0000
TZOFFSETTO:+0000
END:STANDARD
END:VTIMEZONE
BEGIN:VEVENT
UID:467-166
DTSTAMP:20260425T015115Z
SUMMARY:Bloom &amp;amp\; Flutter Kickoff
LOCATION:Tampa Bay Butterfly Foundation Gallery 4111-A Henderson Blvd.  Tam
 pa FL 33629
ORGANIZER;CN=element:MAILTO:anita@anitasaccountingsolutions.com
DTSTART;TZID=Etc/GMT+0:20260307T130000
DTEND;TZID=Etc/GMT+0:20260307T150000
X-ALT-DESC;FMTTYPE=TEXT/HTML:We’re excited to share a new\, grant-funded 
 opportunity from the Tampa Bay Butterfly Foundation— Bloom &amp;amp\; Flutt
 er\, a sensory-friendly nature program designed especially for families wi
 th children ages 10–17 diagnosed with autism During this initial meeting
 \, families will explore our native butterfly botanical garden\, learn abo
 ut pollinators and native plants\, and engage in a bug hunt.&amp;hellip\;
CATEGORIES:General
URL;VALUE=URI:https://tampabaybutterflyfoundation.org/mc-events/bloom-flutt
 er-kickoff/
METHOD:PUBLISH
END:VEVENT
END:VCALENDAR