BEGIN:VCALENDAR
VERSION:2.0
PRODID:spatie/icalendar-generator
DESCRIPTION:Events from Tampa Bay Butterfly Foundation
X-WR-CALDESC:Events from Tampa Bay Butterfly Foundation
REFRESH-INTERVAL;VALUE=DURATION:PT1440M
X-PUBLISHED-TTL:PT1440M
BEGIN:VTIMEZONE
TZID:Etc/GMT+0
BEGIN:STANDARD
DTSTART:20250616T170000Z
TZOFFSETFROM:+0000
TZOFFSETTO:+0000
END:STANDARD
END:VTIMEZONE
BEGIN:VTIMEZONE
TZID:UTC
BEGIN:STANDARD
DTSTART:20250728T211231Z
TZOFFSETFROM:+0000
TZOFFSETTO:+0000
END:STANDARD
END:VTIMEZONE
BEGIN:VEVENT
UID:469-168
DTSTAMP:20260424T211231Z
SUMMARY:Fundraiser Sip &amp;amp\; Shop at Kendra Scott
LOCATION:Kendra Scott 1511West Swann  Tampa FL
ORGANIZER;CN=element:MAILTO:anita@anitasaccountingsolutions.com
DTSTART;TZID=Etc/GMT+0:20260313T170000
DTEND;TZID=Etc/GMT+0:20260313T190000
X-ALT-DESC;FMTTYPE=TEXT/HTML:Join us for a Sip &amp;amp\; Shop Fundraiser at Ke
 ndra Scott in Hyde Park at 1511West Swann on March 13 from 5–7 PM\, bene
 fitting the Tampa Bay Butterfly Foundation. Enjoy a fun evening of shoppin
 g\, sipping\, and supporting a great cause. Can’t make it in person? You
  can still participate by shopping online at Kendra&amp;hellip\;
CATEGORIES:General
URL;VALUE=URI:https://tampabaybutterflyfoundation.org/mc-events/fundraiser-
 sip-shop-at-kendra-scott/
METHOD:PUBLISH
END:VEVENT
END:VCALENDAR